BEGIN:VCALENDAR
VERSION:2.0
PRODID:-//TYPO3/NONSGML Calendarize//EN
BEGIN:VEVENT
UID:calendarize-herbstkonzert-2-5
DTSTAMP:20260425T022416
DTSTART:20271127T193000
DTEND:20271127T213000
SUMMARY:Herbstkonzert
DESCRIPTION:
X-ALT-DESC;FMTTYPE=text/html:
LOCATION:VAZ St. Marienkirchen an der Polsenz
END:VEVENT
END:VCALENDAR
