BEGIN:VCALENDAR
VERSION:2.0
PRODID:-//TYPO3/NONSGML Calendarize//EN
BEGIN:VEVENT
UID:calendarize-herbstkonzert-0aabd83a08fa82a43c50512d35b4042d
DTSTAMP:20260424T220545
DTSTART:20261107T200000
DTEND:20261107T220000
SUMMARY:Herbstkonzert
DESCRIPTION:
X-ALT-DESC;FMTTYPE=text/html:
LOCATION:Gemeindehalle
END:VEVENT
END:VCALENDAR
