BEGIN:VCALENDAR
VERSION:2.0
PRODID:-//TYPO3/NONSGML Calendarize//EN
BEGIN:VEVENT
UID:calendarize-herbstklaenge-des-ooebv-bezirksverbands-voecklabruck-1
DTSTAMP:20260425T023255
DTSTART;VALUE=DATE:20271121
DTEND;VALUE=DATE:20271122
SUMMARY:Herbstklänge des OÖBV Bezirksverbandes Vöcklabruck
DESCRIPTION:
X-ALT-DESC;FMTTYPE=text/html:
LOCATION:KUSZ Timelkam (https://maps.app.goo.gl/j4XaqPFRZX6agRSHA)
END:VEVENT
END:VCALENDAR
