BEGIN:VCALENDAR
VERSION:2.0
PRODID:-//TYPO3/NONSGML Calendarize//EN
BEGIN:VEVENT
UID:calendarize-galanacht-2
DTSTAMP:20260424T234116
DTSTART:20261127T200000
DTEND:20261127T220000
SUMMARY:Galanacht
DESCRIPTION:
X-ALT-DESC;FMTTYPE=text/html:
LOCATION:VZ Buchkirchen
END:VEVENT
END:VCALENDAR
