BEGIN:VCALENDAR
VERSION:2.0
PRODID:-//TYPO3/NONSGML Calendarize//EN
BEGIN:VEVENT
UID:calendarize-fruehlingskonzert-tmk-lambrechten-2
DTSTAMP:20260425T010649
DTSTART:20270320T200000
DTEND:20270320T220000
SUMMARY:Frühlingskonzert TMK Lambrechten
DESCRIPTION:
X-ALT-DESC;FMTTYPE=text/html:
LOCATION:Turnhalle Lambrechten
END:VEVENT
END:VCALENDAR
