BEGIN:VCALENDAR
VERSION:2.0
PRODID:-//TYPO3/NONSGML Calendarize//EN
BEGIN:VEVENT
UID:calendarize-fruehlingskonzert-asten
DTSTAMP:20260424T191943
DTSTART:20260530T193000
DTEND:20260530T220000
SUMMARY:Frühlingskonzert Asten
DESCRIPTION:
X-ALT-DESC;FMTTYPE=text/html:
LOCATION:Stockschützenhalle Asten
END:VEVENT
END:VCALENDAR
