BEGIN:VCALENDAR
VERSION:2.0
PRODID:-//TYPO3/NONSGML Calendarize//EN
BEGIN:VEVENT
UID:calendarize-fruehjahrskonzert-des-musikvereins-andrichsfurt-1
DTSTAMP:20260425T010837
DTSTART:20270403T200000
DTEND:20270403T220000
SUMMARY:Frühjahrskonzert MV Andrichsfurt
DESCRIPTION:
X-ALT-DESC;FMTTYPE=text/html:
LOCATION:Bauernmarkthalle Ried
END:VEVENT
END:VCALENDAR
