BEGIN:VCALENDAR
VERSION:2.0
PRODID:-//TYPO3/NONSGML Calendarize//EN
BEGIN:VEVENT
UID:calendarize-fruehjahrskonzert-der-mk-mehrnbach
DTSTAMP:20260425T010649
DTSTART:20270403T200000
DTEND:20270403T223000
SUMMARY:Frühjahrskonzert der MK Mehrnbach
DESCRIPTION:Im Jahr 2026 feiert die Musikkapelle Mehrnbach ihr 175-jährig
 es Bestehen. Als Auftakt in ein Jahr voller Feierlichkeiten wird es am 27.
  & 28. Februar ein Jubliäumskonzert geben. Den Höhepunkt des Jubiläumsj
 ahrs stellt das 67. Bezirksblasmusikfest von 19.-21. Juni dar.
X-ALT-DESC;FMTTYPE=text/html:Im Jahr 2026 feiert die Musikkapelle Mehrnbac
 h ihr 175-jähriges Bestehen. Als Auftakt in ein Jahr voller Feierlichkeit
 en wird es am 27. & 28. Februar ein Jubliäumskonzert geben. Den Höhepunk
 t des Jubiläumsjahrs stellt das 67. Bezirksblasmusikfest von 19.-21. Juni
  dar.
LOCATION:Mehrzweckhalle Mehrnbach
END:VEVENT
END:VCALENDAR
