BEGIN:VCALENDAR
VERSION:2.0
PRODID:-//TYPO3/NONSGML Calendarize//EN
BEGIN:VEVENT
UID:calendarize-fruehjahrskonzert-2321613f218c27e7d58ad4f379d80b56
DTSTAMP:20260424T175555
DTSTART:20260425T193000
SUMMARY:Frühjahrskonzert
DESCRIPTION:VvK Karten bei Vereinsmitgliedern oder Online auf: https://kup
 fticket.com/events/fruehjahrskonzert\n\nProgramm:\n\nLux in desperando\, M
 arsch - David Lehner\nEast Coast Pictures - Nigel Hess\n1 Shelter Island -
  2 The Catskills - 3 New York\n\nLibertadores - Oscar Navarro\n\n----- PAU
 SE -----\n\nRegimentskinder - Julius Fucik\n\nSongs from the Musical CATS 
 - Andrew Lloyd Webber\n\nSteve Wonder - arr. John Wasson\n\nDas Dschungelb
 uch - Richard Sherman\, arr. Marcel Peeters
X-ALT-DESC;FMTTYPE=text/html:<p>VvK Karten bei Vereinsmitgliedern oder Onl
 ine auf: https://kupfticket.com/events/fruehjahrskonzert</p>\n\n<p>Program
 m:</p>\n\n<p>Lux in desperando\, Marsch - David Lehner</p>\n<p>East Coast 
 Pictures - Nigel Hess</p>\n<p>1 Shelter Island - 2 The Catskills - 3 New Y
 ork</p>\n\n<p>Libertadores - Oscar Navarro</p>\n\n<p>----- PAUSE -----</p>
 \n\n<p>Regimentskinder - Julius Fucik</p>\n\n<p>Songs from the Musical CAT
 S - Andrew Lloyd Webber</p>\n\n<p>Steve Wonder - arr. John Wasson</p>\n\n<
 p>Das Dschungelbuch - Richard Sherman\, arr. Marcel Peeters</p>
LOCATION:Bauhofhalle Steinerkirchen
END:VEVENT
END:VCALENDAR
