BEGIN:VCALENDAR
VERSION:2.0
PRODID:-//TYPO3/NONSGML Calendarize//EN
BEGIN:VEVENT
UID:calendarize-fruehjahrskonzert-2026-5
DTSTAMP:20260424T175153
DTSTART:20260425T190000
DTEND:20260425T220000
SUMMARY:Frühjahrskonzert 2026
DESCRIPTION:
X-ALT-DESC;FMTTYPE=text/html:
LOCATION:Turnsaal der ehem. Hauptschule Schönering
END:VEVENT
END:VCALENDAR
