BEGIN:VCALENDAR
VERSION:2.0
PRODID:-//TYPO3/NONSGML Calendarize//EN
BEGIN:VEVENT
UID:calendarize-fruehjahrsklaenge-des-ooebv-bezirksverbandes-voecklabruck-
 1-1
DTSTAMP:20260425T010914
DTSTART:20270410T000000
DTEND:20270411T000000
SUMMARY:Frühjahrsklänge des OÖBV Bezirksverbandes Vöcklabruck
DESCRIPTION:
X-ALT-DESC;FMTTYPE=text/html:
LOCATION:KUZ Lenzing (https://maps.app.goo.gl/En1yznBukBvNvcJd8)
END:VEVENT
END:VCALENDAR
