BEGIN:VCALENDAR
VERSION:2.0
PRODID:-//TYPO3/NONSGML Calendarize//EN
BEGIN:VEVENT
UID:calendarize-european-brass-band-championships
DTSTAMP:20260424T175447
DTSTART;VALUE=DATE:20260422
DTEND;VALUE=DATE:20260427
SUMMARY:European Brass Band Championships
DESCRIPTION:
X-ALT-DESC;FMTTYPE=text/html:
LOCATION:Brucknerhaus Linz
END:VEVENT
END:VCALENDAR
