BEGIN:VCALENDAR
VERSION:2.0
PRODID:-//TYPO3/NONSGML Calendarize//EN
BEGIN:VEVENT
UID:calendarize-erweiterte-bezirksleitungssitzung-11
DTSTAMP:20260425T010415
DTSTART:20270131T090000
DTEND:20270131T120000
SUMMARY:erweiterte Bezirksleitungssitzung
DESCRIPTION:
X-ALT-DESC;FMTTYPE=text/html:
LOCATION:
END:VEVENT
END:VCALENDAR
