BEGIN:VCALENDAR
VERSION:2.0
PRODID:-//TYPO3/NONSGML Calendarize//EN
BEGIN:VEVENT
UID:calendarize-ebo-abschlusskonzert-klangfarben-ensemble-blasorchesterlei
 tung
DTSTAMP:20260424T192039
DTSTART:20260530T193000
DTEND:20260530T220000
SUMMARY:EBO Abschlusskonzert "Klangfarben" – Ensemble- & Blasorchesterle
 itung
DESCRIPTION:Nach vier Jahren intensiver Ausbildung lädt der EBO-Lehrgang 
 2022-2026 zum großen Abschlusskonzert unter dem Motto "Klangfarben" ein. 
 Erleben Sie die Absolventinnen und Absolventen am Dirigentenpult eines hoc
 hkarätigen Blasorchesters. Die Kursleitung hat Alois Papst. Der Eintritt 
 ist frei!
X-ALT-DESC;FMTTYPE=text/html:<p>Nach vier Jahren intensiver Ausbildung lä
 dt der EBO-Lehrgang 2022-2026 zum großen Abschlusskonzert unter dem Motto
  "Klangfarben" ein. Erleben Sie die Absolventinnen und Absolventen am Diri
 gentenpult eines hochkarätigen Blasorchesters. Die Kursleitung hat Alois 
 Papst. Der Eintritt ist frei!</p>
LOCATION:Veranstaltungssaal Suben
END:VEVENT
END:VCALENDAR
