BEGIN:VCALENDAR
VERSION:2.0
PRODID:-//TYPO3/NONSGML Calendarize//EN
BEGIN:VEVENT
UID:calendarize-ebo-abschlusskonzert-3
DTSTAMP:20260424T220234
DTSTART:20261107T190000
DTEND:20261107T220000
SUMMARY:EBO-Abschlusskonzert
DESCRIPTION:
X-ALT-DESC;FMTTYPE=text/html:
LOCATION:VH Dornach
END:VEVENT
END:VCALENDAR
