BEGIN:VCALENDAR
VERSION:2.0
PRODID:-//TYPO3/NONSGML Calendarize//EN
BEGIN:VEVENT
UID:calendarize-das-verhexte-museum
DTSTAMP:20260424T192014
DTSTART:20260529T180000
DTEND:20260529T200000
SUMMARY:Das verhexte Museum
DESCRIPTION:
X-ALT-DESC;FMTTYPE=text/html:
LOCATION:Mehrzweckhalle Schleißheim (https://maps.app.goo.gl/aBQnTA7cpmHg
 UN899)
END:VEVENT
END:VCALENDAR
