BEGIN:VCALENDAR
VERSION:2.0
PRODID:-//TYPO3/NONSGML Calendarize//EN
BEGIN:VEVENT
UID:calendarize-burggartenkonzert-2
DTSTAMP:20260424T191907
DTSTART:20260611T200000
DTEND:20260611T220000
SUMMARY:Burggartenkonzert\, TK Thalheim bei Wels
DESCRIPTION:
X-ALT-DESC;FMTTYPE=text/html:
LOCATION:Burgarten Wels
END:VEVENT
END:VCALENDAR
