BEGIN:VCALENDAR
VERSION:2.0
PRODID:-//TYPO3/NONSGML Calendarize//EN
BEGIN:VEVENT
UID:calendarize-bundeswettbewerb-polka-walzer-marsch-11
DTSTAMP:20260424T175453
DTSTART;VALUE=DATE:20260425
DTEND;VALUE=DATE:20260426
SUMMARY:Bundeswettbewerb Polka\, Walzer\, Marsch
DESCRIPTION:
X-ALT-DESC;FMTTYPE=text/html:
LOCATION:Rathaus Wien
END:VEVENT
END:VCALENDAR
