BEGIN:VCALENDAR
VERSION:2.0
PRODID:-//TYPO3/NONSGML Calendarize//EN
BEGIN:VEVENT
UID:calendarize-brass-am-bach-open-air-konzert-musikverein-st-martin-im
DTSTAMP:20260424T192503
DTSTART:20260530T183000
SUMMARY:// BRASS AM BACH // Open-Air Konzert Musikverein St. Martin i.M.
DESCRIPTION:Live Musik\, Aftershow\, Drinks & More\n\nVVK: 10 EUR\, AK: 12
  EUR\nunter 15 Jahren Freier Eintritt\nKartenvorverkauf bei allen Musiker:
 innen & UNIQA GeneralAgentur Rechberger
X-ALT-DESC;FMTTYPE=text/html:Live Musik\, Aftershow\, Drinks & More\n\nVVK
 : 10 EUR\, AK: 12 EUR\nunter 15 Jahren Freier Eintritt\nKartenvorverkauf b
 ei allen Musiker:innen & UNIQA GeneralAgentur Rechberger
LOCATION:St. Martin im Mühlkreis / Aubachstadion
END:VEVENT
END:VCALENDAR
