BEGIN:VCALENDAR
VERSION:2.0
PRODID:-//TYPO3/NONSGML Calendarize//EN
BEGIN:VEVENT
UID:calendarize-blasmusikserenade-polizeimusik-ooe
DTSTAMP:20260424T191946
DTSTART:20260624T183000
DTEND:20260624T193000
SUMMARY:Blasmusikserenade - Polizeimusik OÖ
DESCRIPTION:
X-ALT-DESC;FMTTYPE=text/html:
LOCATION:Musiktheater im Volksgarten (https://www.in-linz-erklingts.at)
END:VEVENT
END:VCALENDAR
