BEGIN:VCALENDAR
VERSION:2.0
PRODID:-//TYPO3/NONSGML Calendarize//EN
BEGIN:VEVENT
UID:calendarize-blasmusikserenade-linzer-boehmische-1
DTSTAMP:20260424T204505
DTSTART:20260729T183000
DTEND:20260729T193000
SUMMARY:Blasmusikserenade - Linzer Böhmische
DESCRIPTION:
X-ALT-DESC;FMTTYPE=text/html:
LOCATION:Musiktheater im Volksgarten (https://www.in-linz-erklingts.at)
END:VEVENT
END:VCALENDAR
