BEGIN:VCALENDAR
VERSION:2.0
PRODID:-//TYPO3/NONSGML Calendarize//EN
BEGIN:VEVENT
UID:calendarize-blasmusikserenade-kepler-blasorchester-1
DTSTAMP:20260424T192041
DTSTART:20260610T183000
DTEND:20260610T193000
SUMMARY:Blasmusikserenade - Kepler Blasorchester
DESCRIPTION:
X-ALT-DESC;FMTTYPE=text/html:
LOCATION:Musiktheater im Volksgarten (https://www.in-linz-erklingts.at)
END:VEVENT
END:VCALENDAR
