BEGIN:VCALENDAR
VERSION:2.0
PRODID:-//TYPO3/NONSGML Calendarize//EN
BEGIN:VEVENT
UID:calendarize-blasmusikserenade-energie-ag-musik-1
DTSTAMP:20260424T192256
DTSTART:20260603T183000
DTEND:20260603T193000
SUMMARY:Blasmusikserenade - Energie AG Musik
DESCRIPTION:
X-ALT-DESC;FMTTYPE=text/html:
LOCATION:Musiktheater im Volksgarten (https://www.in-linz-erklingts.at)
END:VEVENT
END:VCALENDAR
