BEGIN:VCALENDAR
VERSION:2.0
PRODID:-//TYPO3/NONSGML Calendarize//EN
BEGIN:VEVENT
UID:calendarize-blaesertage-mit-konzertwertung-in-koenigswiesen
DTSTAMP:20260424T220659
DTSTART;VALUE=DATE:20261114
DTEND;VALUE=DATE:20261115
SUMMARY:Bläsertage mit Konzertwertung 2026
DESCRIPTION:
X-ALT-DESC;FMTTYPE=text/html:
LOCATION:Königswiesen
END:VEVENT
END:VCALENDAR
