BEGIN:VCALENDAR
VERSION:2.0
PRODID:-//TYPO3/NONSGML Calendarize//EN
BEGIN:VEVENT
UID:calendarize-blaesertage-mit-konzertwertung-10-1
DTSTAMP:20260425T023255
DTSTART;VALUE=DATE:20271113
DTEND;VALUE=DATE:20271114
SUMMARY:Bläsertage mit Konzertwertung 2027
DESCRIPTION:
X-ALT-DESC;FMTTYPE=text/html:
LOCATION:Salzhof Freistadt
END:VEVENT
END:VCALENDAR
