BEGIN:VCALENDAR
VERSION:2.0
PRODID:-//TYPO3/NONSGML Calendarize//EN
BEGIN:VEVENT
UID:calendarize-bezirksmusikfest
DTSTAMP:20260424T204502
DTSTART;VALUE=DATE:20260710
DTEND;VALUE=DATE:20260713
SUMMARY:Bezirksblasmusikfest
DESCRIPTION:
X-ALT-DESC;FMTTYPE=text/html:
LOCATION:St. Marienkirchen bei Schärding
END:VEVENT
END:VCALENDAR
