BEGIN:VCALENDAR
VERSION:2.0
PRODID:-//TYPO3/NONSGML Calendarize//EN
BEGIN:VEVENT
UID:calendarize-bezirksmusikfest-st-thomas-bl
DTSTAMP:20260425T022415
DTSTART;VALUE=DATE:20280617
DTEND;VALUE=DATE:20280618
SUMMARY:Bezirksmusikfest St. Thomas/Bl
DESCRIPTION:
X-ALT-DESC;FMTTYPE=text/html:
LOCATION:St. Thomas/Bl.
END:VEVENT
END:VCALENDAR
