BEGIN:VCALENDAR
VERSION:2.0
PRODID:-//TYPO3/NONSGML Calendarize//EN
BEGIN:VEVENT
UID:calendarize-bezirksmusikfest-mit-marschwertung-99
DTSTAMP:20260425T022341
DTSTART;VALUE=DATE:20280616
DTEND;VALUE=DATE:20280703
SUMMARY:Bezirksmusikfest mit Marschwertung (Termin in Planung)
DESCRIPTION:
X-ALT-DESC;FMTTYPE=text/html:
LOCATION:Sattledt
END:VEVENT
END:VCALENDAR
