BEGIN:VCALENDAR
VERSION:2.0
PRODID:-//TYPO3/NONSGML Calendarize//EN
BEGIN:VEVENT
UID:calendarize-bezirksmusikfest-mit-marschwertung-47-1
DTSTAMP:20260425T022608
DTSTART;VALUE=DATE:20280610
DTEND;VALUE=DATE:20280611
SUMMARY:BEZIRKSMUSIKFEST MIT MARSCHWERTUNG
DESCRIPTION:Details werden noch bekannt gegeben .....
X-ALT-DESC;FMTTYPE=text/html:<p class="text-center">Details werden noch be
 kannt gegeben .....</p>
LOCATION:Leopoldschlag / Mardetschlag
END:VEVENT
END:VCALENDAR
