BEGIN:VCALENDAR
VERSION:2.0
PRODID:-//TYPO3/NONSGML Calendarize//EN
BEGIN:VEVENT
UID:calendarize-bezirksmusikfest-mit-marschwertung-3512a41b580d5847a75684b
 6c78de15f
DTSTAMP:20260425T010859
DTSTART;VALUE=DATE:20270605
DTEND;VALUE=DATE:20270607
SUMMARY:Bezirksmusikfest mit Marschwertung
DESCRIPTION:
X-ALT-DESC;FMTTYPE=text/html:
LOCATION:St. Marienkirchen an der Polsenz
END:VEVENT
END:VCALENDAR
