BEGIN:VCALENDAR
VERSION:2.0
PRODID:-//TYPO3/NONSGML Calendarize//EN
BEGIN:VEVENT
UID:calendarize-bezirksmusikfest-mit-marschwertung-2029
DTSTAMP:20260425T024047
DTSTART:20290623T143000
DTEND:20290623T235900
SUMMARY:Bezirksmusikfest mit Marschwertung
DESCRIPTION:
X-ALT-DESC;FMTTYPE=text/html:
LOCATION:Zwettl an der Rodl
END:VEVENT
END:VCALENDAR
