BEGIN:VCALENDAR
VERSION:2.0
PRODID:-//TYPO3/NONSGML Calendarize//EN
BEGIN:VEVENT
UID:calendarize-bezirksmusikfest-mit-marschwertung-2027
DTSTAMP:20260425T022731
DTSTART:20270626T143000
DTEND:20270626T235900
SUMMARY:Bezirksmusikfest mit Marschwertung
DESCRIPTION:
X-ALT-DESC;FMTTYPE=text/html:
LOCATION:Vorderweißenbach
END:VEVENT
END:VCALENDAR
