BEGIN:VCALENDAR
VERSION:2.0
PRODID:-//TYPO3/NONSGML Calendarize//EN
BEGIN:VEVENT
UID:calendarize-bezirksmusikfest-mit-marschwertung-1
DTSTAMP:20260425T023140
DTSTART;VALUE=DATE:20270619
DTEND;VALUE=DATE:20270621
SUMMARY:Bezirksmusikfest mit Marschwertung
DESCRIPTION:
X-ALT-DESC;FMTTYPE=text/html:
LOCATION:Laussa
END:VEVENT
END:VCALENDAR
