BEGIN:VCALENDAR
VERSION:2.0
PRODID:-//TYPO3/NONSGML Calendarize//EN
BEGIN:VEVENT
UID:calendarize-bezirksmusikfest-2027
DTSTAMP:20260425T010549
DTSTART:20270611T000000
DTEND:20270613T000000
SUMMARY:Bezirksmusikfest 2027
DESCRIPTION:
X-ALT-DESC;FMTTYPE=text/html:
LOCATION:Voitsdorf
END:VEVENT
END:VCALENDAR
