BEGIN:VCALENDAR
VERSION:2.0
PRODID:-//TYPO3/NONSGML Calendarize//EN
BEGIN:VEVENT
UID:calendarize-bezirksmusikfest-2027-mit-marschwertung
DTSTAMP:20260425T023003
DTSTART:20270618T170000
DTEND:20270620T235900
SUMMARY:Bezirksmusikfest 2027 mit Marschwertung in St. Florian
DESCRIPTION:Aktuelle Informationen unter www.musifest2027.at
X-ALT-DESC;FMTTYPE=text/html:<p>Aktuelle Informationen unter&nbsp\;<a data
 -saferedirecturl="https://www.google.com/url?q=https://www.musifest2027.at
 &amp\;source=gmail&amp\;ust=1744975857474000&amp\;usg=AOvVaw2RNxJndOPUXGhz
 NMsT0Zaj" href="https://www.musifest2027.at/" rel="noopener noreferrer" ta
 rget="_blank">www.musifest2027.at</a></p>
LOCATION:St. Florian
END:VEVENT
END:VCALENDAR
