BEGIN:VCALENDAR
VERSION:2.0
PRODID:-//TYPO3/NONSGML Calendarize//EN
BEGIN:VEVENT
UID:calendarize-bezirksmusikfest-2026-mit-marschwertung-in-eggendorf
DTSTAMP:20260424T192429
DTSTART:20260612T000000
DTEND:20260613T000000
SUMMARY:Bezirksmusikfest 2026 mit Marschwertung in Eggendorf
DESCRIPTION:
X-ALT-DESC;FMTTYPE=text/html:
LOCATION:Eggendorf
END:VEVENT
END:VCALENDAR
