BEGIN:VCALENDAR
VERSION:2.0
PRODID:-//TYPO3/NONSGML Calendarize//EN
BEGIN:VEVENT
UID:calendarize-bezirksblasmusikfest
DTSTAMP:20260425T022610
DTSTART;VALUE=DATE:20270709
DTEND;VALUE=DATE:20270712
SUMMARY:Bezirksblasmusikfest
DESCRIPTION:
X-ALT-DESC;FMTTYPE=text/html:
LOCATION:Andorf
END:VEVENT
END:VCALENDAR
