BEGIN:VCALENDAR
VERSION:2.0
PRODID:-//TYPO3/NONSGML Calendarize//EN
BEGIN:VEVENT
UID:calendarize-bezirksblasmusikfest-1
DTSTAMP:20260425T024311
DTSTART;VALUE=DATE:20280707
DTEND;VALUE=DATE:20280710
SUMMARY:Bezirksblasmusikfest
DESCRIPTION:
X-ALT-DESC;FMTTYPE=text/html:
LOCATION:Rainbach im Innkreis
END:VEVENT
END:VCALENDAR
