BEGIN:VCALENDAR
VERSION:2.0
PRODID:-//TYPO3/NONSGML Calendarize//EN
BEGIN:VEVENT
UID:calendarize-barbarafeier-3
DTSTAMP:20260425T004359
DTSTART:20261206T110000
DTEND:20261206T130000
SUMMARY:Barbarafeier
DESCRIPTION:
X-ALT-DESC;FMTTYPE=text/html:
LOCATION:Kirche St. Michael Bindermichl
END:VEVENT
END:VCALENDAR
