BEGIN:VCALENDAR
VERSION:2.0
PRODID:-//TYPO3/NONSGML Calendarize//EN
BEGIN:VEVENT
UID:calendarize-adventkonzert-om-walding-20261213
DTSTAMP:20260425T004634
DTSTART:20261213T170000
DTEND:20261213T180000
SUMMARY:Adventkonzert - OM Walding
DESCRIPTION:
X-ALT-DESC;FMTTYPE=text/html:
LOCATION:Pfarrkirche Walding 
END:VEVENT
END:VCALENDAR
