BEGIN:VCALENDAR
VERSION:2.0
PRODID:-//TYPO3/NONSGML Calendarize//EN
BEGIN:VEVENT
UID:calendarize-adventkonzert-o-du-froehliche-1-1-1-1
DTSTAMP:20260425T005030
DTSTART:20261220T160000
DTEND:20261220T180000
SUMMARY:Adventkonzert - O du fröhliche
DESCRIPTION:
X-ALT-DESC;FMTTYPE=text/html:
LOCATION:Pfarrkirche Ried/Trkr.
END:VEVENT
END:VCALENDAR
