BEGIN:VCALENDAR
VERSION:2.0
PRODID:-//TYPO3/NONSGML Calendarize//EN
BEGIN:VEVENT
UID:calendarize-adventkonzert-mv-ries-im-traunkreis
DTSTAMP:20260425T004655
DTSTART:20261220T160000
SUMMARY:Adventkonzert MV Ried im Traunkreis
DESCRIPTION:
X-ALT-DESC;FMTTYPE=text/html:
LOCATION:Pfarrkirche Ried/ Trkr.
END:VEVENT
END:VCALENDAR
