BEGIN:VCALENDAR
VERSION:2.0
PRODID:-//TYPO3/NONSGML Calendarize//EN
BEGIN:VEVENT
UID:calendarize-67-bezriksblasmusikfest-in-mehrnbach
DTSTAMP:20260424T192318
DTSTART;VALUE=DATE:20260619
DTEND;VALUE=DATE:20260622
SUMMARY:67. Bezriksblasmusikfest mit Marschwertung
DESCRIPTION:Detailinformationen folgen zeitgerecht. Das Bezirksblasmusikfe
 st für das Jahr 2026 wurde aufgrund von Corona der MK Mehrnbach zugesproc
 hen. Ursprünglicher Termin war das Jahr 2021 Bei Fragen wenden Sie sich b
 itte an die Bezirksleitung Ried im Innkreis
X-ALT-DESC;FMTTYPE=text/html:<p>Detailinformationen folgen zeitgerecht.<br
  /> Das Bezirksblasmusikfest für das Jahr 2026 wurde aufgrund von Corona 
 der MK Mehrnbach zugesprochen.<br /> Ursprünglicher Termin war das Jahr 2
 021<br /> Bei Fragen wenden Sie sich bitte an die Bezirksleitung Ried im I
 nnkreis</p>
LOCATION:Ortsgebiet von Mehrnbach
END:VEVENT
END:VCALENDAR
