BEGIN:VCALENDAR
VERSION:2.0
PRODID:-//TYPO3/NONSGML Calendarize//EN
BEGIN:VEVENT
UID:calendarize-20-fruehjahrskonzert
DTSTAMP:20260424T175115
DTSTART:20260425T190000
DTEND:20260425T220000
SUMMARY:20. Frühjahrskonzert
DESCRIPTION:
X-ALT-DESC;FMTTYPE=text/html:
LOCATION:Florianhalle\, 4490 St. Florian
END:VEVENT
END:VCALENDAR
